BEGIN:VCALENDAR
VERSION:2.0
PRODID:-//wp-events-plugin.com//7.2.3.1//EN
TZID:Europe/Zurich
X-WR-TIMEZONE:Europe/Zurich
BEGIN:VEVENT
UID:329@maisondequartiersousgare.ch
DTSTART;TZID=Europe/Zurich:20200408T143000
DTEND;TZID=Europe/Zurich:20200408T180000
DTSTAMP:20200122T151120Z
URL:https://maisondequartiersousgare.ch/events/0-6-ans-mercredi-apres-midi
 -36/
SUMMARY:0-6 ans Mercredi après-midi
DESCRIPTION:\n\n\n\n\n\n\n\n\n\n\n\n\n\n\n\n\n\n\n\n\n\n\n\n\n\n\n\n\n\n\n\
 n\n\n\n\n\n\n\n\n\nChasse aux oeufs.\nDépart de la Place de Milan à 15h0
 0.\nRendez-vous devant les WC publics\n\n\n\n\n\n\n\n\n\n\n\n\n\n\n\n\n\n\
 n\n\n\n\n\n\n\n\n\n\n\n\n\n\n\n\n\n\n\n\n\n\n
CATEGORIES:0-6 ans,activités
END:VEVENT
BEGIN:VTIMEZONE
TZID:Europe/Zurich
X-LIC-LOCATION:Europe/Zurich
BEGIN:DAYLIGHT
DTSTART:20200329T030000
TZOFFSETFROM:+0100
TZOFFSETTO:+0200
TZNAME:CEST
END:DAYLIGHT
END:VTIMEZONE
END:VCALENDAR