BEGIN:VCALENDAR
VERSION:2.0
PRODID:-//wp-events-plugin.com//7.2.3.1//EN
TZID:Europe/Zurich
X-WR-TIMEZONE:Europe/Zurich
BEGIN:VEVENT
UID:2023@maisondequartiersousgare.ch
DTSTART;TZID=Europe/Zurich:20260513T150000
DTEND;TZID=Europe/Zurich:20260513T161500
DTSTAMP:20260423T135322Z
URL:https://maisondequartiersousgare.ch/events/bab-lo-concert-pour-enfants
 /
SUMMARY:BAB &amp\; Lo / concert pour enfants
DESCRIPTION:\nVenez nombreux•ses mercredi 13 mai à 15h\, à la Maison de
  Quartier Sous-Gare de Lausanne @maisondequartiersousgare pour notre tout 
 PREMIER CONCERT \n\n\n\n\n\n\n\n\n\n\n\n\n\n\n\n\n
ATTACH;FMTTYPE=image/jpeg:https://maisondequartiersousgare.ch/wp-content/u
 ploads/2026/04/bablo.webp
CATEGORIES:0-6 ans,7-11 ans,Jeune publique,Quartier
END:VEVENT
BEGIN:VTIMEZONE
TZID:Europe/Zurich
X-LIC-LOCATION:Europe/Zurich
BEGIN:DAYLIGHT
DTSTART:20260329T030000
TZOFFSETFROM:+0100
TZOFFSETTO:+0200
TZNAME:CEST
END:DAYLIGHT
END:VTIMEZONE
END:VCALENDAR