BEGIN:VCALENDAR
VERSION:2.0
PRODID:-//wp-events-plugin.com//7.2.3.1//EN
TZID:Europe/Zurich
X-WR-TIMEZONE:Europe/Zurich
BEGIN:VEVENT
UID:985@maisondequartiersousgare.ch
DTSTART;TZID=Europe/Zurich:20220923T203000
DTEND;TZID=Europe/Zurich:20220923T203000
DTSTAMP:20230519T143910Z
URL:https://maisondequartiersousgare.ch/events/francois-ve-vernissage-nouv
 el-album-arbres/
SUMMARY:François Vé Vernissage nouvel album « Arbres »
DESCRIPTION:UN NOUVEL ALBUM CRÉÉ AVEC L'ÉNERGIE SOLAIRE
ATTACH;FMTTYPE=image/jpeg:https://maisondequartiersousgare.ch/wp-content/u
 ploads/2022/06/arbres-pour-face-book6b-scaled-1.jpg
CATEGORIES:AAA_Rapport d’activité 2022,chanson
 française,Festival,Musique
END:VEVENT
BEGIN:VTIMEZONE
TZID:Europe/Zurich
X-LIC-LOCATION:Europe/Zurich
BEGIN:DAYLIGHT
DTSTART:20220327T030000
TZOFFSETFROM:+0100
TZOFFSETTO:+0200
TZNAME:CEST
END:DAYLIGHT
END:VTIMEZONE
END:VCALENDAR